BEGIN:VCALENDAR
VERSION:2.0
PRODID:-// - ECPv5.8.1//NONSGML v1.0//EN
CALSCALE:GREGORIAN
METHOD:PUBLISH
X-ORIGINAL-URL:https://www.bnmit.org
X-WR-CALDESC:Events for 
BEGIN:VTIMEZONE
TZID:Asia/Kolkata
BEGIN:STANDARD
TZOFFSETFROM:+0530
TZOFFSETTO:+0530
TZNAME:IST
DTSTART:20220101T000000
END:STANDARD
END:VTIMEZONE
BEGIN:VEVENT
DTSTART;TZID=Asia/Kolkata:20221125T103000
DTEND;TZID=Asia/Kolkata:20221126T123000
DTSTAMP:20260421T075714
CREATED:20230124T110229Z
LAST-MODIFIED:20230124T114036Z
UID:20147-1669372200-1669465800@www.bnmit.org
SUMMARY:All India Workshop
DESCRIPTION:All India Workshop on Design & Safety in Electric Vehicle Technology Held on 25th and 26th November 2022 \n \n 
URL:https://www.bnmit.org/event/all-india-workshop/
LOCATION:BNMIT Campus
CATEGORIES:Department of EEE,Home
ATTACH;FMTTYPE=image/jpeg:https://www.bnmit.org/wp-content/uploads/2023/01/AllIndiaWorkshop1.jpeg
END:VEVENT
END:VCALENDAR