BEGIN:VCALENDAR
VERSION:2.0
PRODID:-// - ECPv5.8.1//NONSGML v1.0//EN
CALSCALE:GREGORIAN
METHOD:PUBLISH
X-ORIGINAL-URL:https://www.bnmit.org
X-WR-CALDESC:Events for 
BEGIN:VTIMEZONE
TZID:UTC
BEGIN:STANDARD
TZOFFSETFROM:+0000
TZOFFSETTO:+0000
TZNAME:UTC
DTSTART:20210101T000000
END:STANDARD
END:VTIMEZONE
BEGIN:VEVENT
DTSTART;TZID=UTC:20210719T103000
DTEND;TZID=UTC:20210724T163000
DTSTAMP:20260421T062407
CREATED:20210726T001544Z
LAST-MODIFIED:20210803T034039Z
UID:15597-1626690600-1627144200@www.bnmit.org
SUMMARY:Faculty Development Programme on Power and Energy Systems:  Technical Progressions and  Research Opportunities
DESCRIPTION:     This post was last updated on         August 3rd\, 2021BROCHURE_FDP_JULY_2021
URL:https://www.bnmit.org/event/faculty-development-programme-on-power-and-energy-systems-technical-progressions-and-research-opportunities-2/
CATEGORIES:Department of EEE,Home
ATTACH;FMTTYPE=image/png:https://www.bnmit.org/wp-content/uploads/2021/07/POSTER_FDP_JULY_2021-1448x2048.jpg.png
END:VEVENT
END:VCALENDAR