BEGIN:VCALENDAR
VERSION:2.0
PRODID:-// - ECPv5.8.1//NONSGML v1.0//EN
CALSCALE:GREGORIAN
METHOD:PUBLISH
X-ORIGINAL-URL:https://www.bnmit.org
X-WR-CALDESC:Events for 
BEGIN:VTIMEZONE
TZID:Asia/Kolkata
BEGIN:STANDARD
TZOFFSETFROM:+0530
TZOFFSETTO:+0530
TZNAME:IST
DTSTART:20230101T000000
END:STANDARD
END:VTIMEZONE
BEGIN:VEVENT
DTSTART;TZID=Asia/Kolkata:20230429T140000
DTEND;TZID=Asia/Kolkata:20230429T180000
DTSTAMP:20260421T054322
CREATED:20230801T125042Z
LAST-MODIFIED:20230801T125059Z
UID:21401-1682776800-1682791200@www.bnmit.org
SUMMARY:FCD and a talk on“STAY AHEAD IN THE AGE OF DIGITALAND AI DISRUPTION: A Strategic Approach”
DESCRIPTION:Conducted By Resource person :\nMr. Vinay Sampath Kumar\nEngineering Leader\, Salesforce\, Bengaluru  \nIn Association with /Under :\nISTE Student Chapter – BNMIT
URL:https://www.bnmit.org/event/fcd-and-a-talk-onstay-ahead-in-the-age-of-digitaland-ai-disruption-a-strategic-approach/
LOCATION:BNMIT Campus
CATEGORIES:Home,ISE DEPT
ATTACH;FMTTYPE=application/pdf:https://www.bnmit.org/wp-content/uploads/2023/08/Slno6_Invitation_FCD_29-April_2023-2.pdf
END:VEVENT
END:VCALENDAR