BEGIN:VCALENDAR
VERSION:2.0
PRODID:-// - ECPv5.8.1//NONSGML v1.0//EN
CALSCALE:GREGORIAN
METHOD:PUBLISH
X-ORIGINAL-URL:https://www.bnmit.org
X-WR-CALDESC:Events for 
BEGIN:VTIMEZONE
TZID:Asia/Kolkata
BEGIN:STANDARD
TZOFFSETFROM:+0530
TZOFFSETTO:+0530
TZNAME:IST
DTSTART:20240101T000000
END:STANDARD
END:VTIMEZONE
BEGIN:VEVENT
DTSTART;VALUE=DATE:20240624
DTEND;VALUE=DATE:20240629
DTSTAMP:20260421T005058
CREATED:20240711T070354Z
LAST-MODIFIED:20240711T071246Z
UID:24012-1719187200-1719619199@www.bnmit.org
SUMMARY:Five Days online FDP on “Advancements on Cyber Security and Natural Language Processing”  
DESCRIPTION:Objective:\nOur objective is to foster innovation and enhance competitiveness by promoting the safe and secure adoption of emerging technologies and digital services. We strive to ensure the continuity and resilience of businesses by mitigating the impact of cyberattacks on their operations\, reputation\, and financial stability. Additionally\, we are dedicated to equipping researchers and educators with the necessary knowledge\, skills\, and resources to effectively understand\, address\, and reduce cybersecurity risks associated with integrating advanced technologies in the context of Industry 4.0. Furthermore\, we are committed to advancing understanding of the evolution of Transformers in AI and NLP\, while also providing valuable insights into Chatbots\, particularly focusing on their application in Indian languages.  \nDate:\n 24th June 2024 to 28th June 2024  \nTime: \n5:00pm to 8:00pm  \nClick here for more details
URL:https://www.bnmit.org/event/five-days-online-fdp-on-advancements-on-cyber-security-and-natural-language-processing/
LOCATION:Remote
CATEGORIES:CSE DEPT,Events,Home
ATTACH;FMTTYPE=image/jpeg:https://www.bnmit.org/wp-content/uploads/2024/07/3.June2024_CSE_FDP_cybersecurity_19jun24_page-0001.jpg
END:VEVENT
END:VCALENDAR