BEGIN:VCALENDAR
VERSION:2.0
PRODID:-// - ECPv5.8.1//NONSGML v1.0//EN
CALSCALE:GREGORIAN
METHOD:PUBLISH
X-ORIGINAL-URL:https://www.bnmit.org
X-WR-CALDESC:Events for 
BEGIN:VTIMEZONE
TZID:UTC
BEGIN:STANDARD
TZOFFSETFROM:+0000
TZOFFSETTO:+0000
TZNAME:UTC
DTSTART:20210101T000000
END:STANDARD
END:VTIMEZONE
BEGIN:VEVENT
DTSTART;TZID=UTC:20210703T103000
DTEND;TZID=UTC:20210703T163000
DTSTAMP:20260420T210552
CREATED:20210726T000520Z
LAST-MODIFIED:20210803T032600Z
UID:15595-1625308200-1625329800@www.bnmit.org
SUMMARY:guest lecture on “HR Strategies in IT Industry”- 2nd semester and 4th semester Students
DESCRIPTION:     This post was last updated on         August 3rd\, 2021\n\n\nDate\n3rd July\,2021\n\n\nOrganization\nBNM INSTITUTE OF TECHNOLOGY\n\n\nAudience\n4th semester & 2nd   semester MBA students\n\n\nMode of Guest Lecture\nOnline through Microsoft Teams\n\n\nTotal Participants\n108\n\n\nProfile\nMs. Harshitha has an experience of 10 years in TCS. She started working as a performance management specialist and is currently the program manager in Leadership and Diversity space. She has won the award for best HR in 2019.She is continuously engaged in CSR (Corporate Social Responsibility) Initiative of TCS.\n\n\nReport\nA guest lecture on “HR Strategies in IT Industry” was conducted for the MBA students of 4th semester and 2nd semester. This lecture was delivered by Ms. Harshitha Bapat and was scheduled to start at 12:00 pm through online mode. She began her lecture with introduction about various HR strategies and emphasized more on being cognizant and vigilant while taking strategic decisions as an HR professional. \nThe Speaker started with explanation of diversity and inclusion and its importance in the IT sector. She gave insights about the following HR strategies: \n\nRed and Blue Cup (Engagement in critical work)\nAttrition and Retention;\n\nThe strategies used for retention purposes are mentoring\, individual development plans etc. \n\nResource Management;\n\nIt includes up skilling\, vendor management\, realization etc. \nShe suggested a Book -6 Thinking Hats by Edward de Bono \nTo Wrap Up: \nShe threw light on various diversity programs like that of: women specific\, people with disabilities\, people from different background\, community and how proper inclusion of such diversified personnel leads to much better productivity. She gave crucial and real-life HR examples from TCS itself and students were able to understand the situation in a better way by sharing their own thoughts and perspectives regarding the same. By the end of the session students were given chance to clarify their doubts and the guest lecture ended by feedback from Dr. Neetha Mahadev and other students. The lecture was a great success. It helped the students to know about use of HR strategies and its impact on the working of company.
URL:https://www.bnmit.org/event/guest-lecture-on-hr-strategies-in-it-industry-2nd-semester-and-4th-semester-students-2/
CATEGORIES:Home,MBA DEPT
ATTACH;FMTTYPE=image/jpeg:https://www.bnmit.org/wp-content/uploads/2021/07/events-dummy.jpg
END:VEVENT
END:VCALENDAR