BEGIN:VCALENDAR
VERSION:2.0
PRODID:-// - ECPv5.8.1//NONSGML v1.0//EN
CALSCALE:GREGORIAN
METHOD:PUBLISH
X-ORIGINAL-URL:https://www.bnmit.org
X-WR-CALDESC:Events for 
BEGIN:VTIMEZONE
TZID:Asia/Kolkata
BEGIN:STANDARD
TZOFFSETFROM:+0530
TZOFFSETTO:+0530
TZNAME:IST
DTSTART:20210101T000000
END:STANDARD
END:VTIMEZONE
BEGIN:VEVENT
DTSTART;TZID=Asia/Kolkata:20211204T110000
DTEND;TZID=Asia/Kolkata:20211204T130000
DTSTAMP:20260421T151657
CREATED:20220113T090702Z
LAST-MODIFIED:20220113T090702Z
UID:17565-1638615600-1638622800@www.bnmit.org
SUMMARY:Guest Lecture on ‘Product Promotion and operations Management’
DESCRIPTION:Date\n04 Dec 2021\n\n\nOrganisation\nBNM Institute of Technology\n\n\nAudience\n3rd Sem MBA students\n\n\nTotal Participants\n110\n\n\nProfile of the speaker\nMr. Swaroop S is a National Retail Operation Manager at Hindustan Lever Limited. He has completed his Bachelors of Business Management specialized in HR from Oxford College of Business Management Bangalore and MBA specialized from SJCE Centre for management studies Mysore. His area of expertise includes Marketing operation\, Sales and Retail operation. He has worked in the FMCG sector for more than 10yrs\n\n\nReport\nA guest lecture on ‘Product promotion and operation management’ was conducted for the 3rd Sem MBA students by Mr. Swaroop S. \nThe speaker began his lecture with a live example from the industry – how actual product promotion takes places and how operation management works in HUL.  The Speaker explained students on how fundamental knowledge of business operations plays an important role in any field of business management. He gave the following insights of a business- \n  \nSales and marketing:  How to evaluate the existing market developments\, trends & collate information to develop business. \nRetail operations: Importance of Product demo- How to adopt a suitable discipline in pricing and discounting physical presentation of products and place. How can managers decide about which product should be presented to which customers and at what time. \nHe gave an insight of how HUL worked at the time of covid pandemic and how they diversified their production from necessity products to hygiene products (sanitizer\, hand wash etc.) \nProduction promotion was explained with various promotion tools and method to use this tool effectively in order to place the product in customers mind for a long time. The Speaker gave an idea about how mystery shopping takes place. Speaker also highlighted the importance of having the right attitude to grow in one’s career and being flexible. He gave few real- life examples of strategy and clarified questions raised by students.
URL:https://www.bnmit.org/event/guest-lecture-on-product-promotion-and-operations-management/
CATEGORIES:Home,MBA DEPT
ATTACH;FMTTYPE=image/jpeg:https://www.bnmit.org/wp-content/uploads/2022/01/Swaroop_4-Dec-1.jpg
END:VEVENT
END:VCALENDAR