BEGIN:VCALENDAR
VERSION:2.0
PRODID:-// - ECPv5.8.1//NONSGML v1.0//EN
CALSCALE:GREGORIAN
METHOD:PUBLISH
X-ORIGINAL-URL:https://www.bnmit.org
X-WR-CALDESC:Events for 
BEGIN:VTIMEZONE
TZID:UTC
BEGIN:STANDARD
TZOFFSETFROM:+0000
TZOFFSETTO:+0000
TZNAME:UTC
DTSTART:20210101T000000
END:STANDARD
END:VTIMEZONE
BEGIN:VEVENT
DTSTART;TZID=UTC:20210123T180000
DTEND;TZID=UTC:20210123T190000
DTSTAMP:20260421T190900
CREATED:20210726T020558Z
LAST-MODIFIED:20210803T033732Z
UID:15646-1611424800-1611428400@www.bnmit.org
SUMMARY:Inauguration of 1st Sem PG classes
DESCRIPTION:     This post was last updated on         August 3rd\, 2021Sri. P B  Kotur\, General Manager\, Wipro Technologies Ltd. was the chief guest for the offline inauguration of MBA and M.Tech programs at BNM Institute of Technology. He congratulated the management and students for their courage in organizing the inauguration program.  Sri. Kotur advised the students to use technology for knowledge acquisition\, collaboration and communication. Education 2.0 is all about having passion to learn\, passion to accept\, will to win and power to change you.  He congratulated the students for choosing BNMIT as their place of study. The leadership at BNMIT demonstrates the values and ethics through their actions. Through such powerful communication\, the students are given the opportunity to imbibe these etiquette. Listening and communicating effectively are very important skills. Learn to communicate the intent as well as the content.  The three I’s highly appreciated in corporate are Initiative\, Innovation and Integrity. Sir\, paid rich tributes to Netaji Subhash Chandra Bose by hailing him as the true icon of all young Indians who stand up for the cause of the country.
URL:https://www.bnmit.org/event/inauguration-of-1st-sem-pg-classes/
CATEGORIES:Home,MBA DEPT
ATTACH;FMTTYPE=image/jpeg:https://www.bnmit.org/wp-content/uploads/2021/07/events-dummy.jpg
END:VEVENT
END:VCALENDAR