BEGIN:VCALENDAR
VERSION:2.0
PRODID:-// - ECPv5.8.1//NONSGML v1.0//EN
CALSCALE:GREGORIAN
METHOD:PUBLISH
X-ORIGINAL-URL:https://www.bnmit.org
X-WR-CALDESC:Events for 
BEGIN:VTIMEZONE
TZID:UTC
BEGIN:STANDARD
TZOFFSETFROM:+0000
TZOFFSETTO:+0000
TZNAME:UTC
DTSTART:20190101T000000
END:STANDARD
END:VTIMEZONE
BEGIN:VEVENT
DTSTART;VALUE=DATE:20191015
DTEND;VALUE=DATE:20191016
DTSTAMP:20260423T234816
CREATED:20210726T064925Z
LAST-MODIFIED:20210803T042232Z
UID:15843-1571097600-1571183999@www.bnmit.org
SUMMARY:INDUSTRY VISIT PHOTO GALLERY
DESCRIPTION:     This post was last updated on         August 3rd\, 2021The Department of Electrical
URL:https://www.bnmit.org/event/industry-visit-photo-gallery-4/
CATEGORIES:Department of EEE,Home
ATTACH;FMTTYPE=image/jpeg:https://www.bnmit.org/wp-content/uploads/2021/07/bnmit_post_4h-150x150-38.jpg
END:VEVENT
END:VCALENDAR