BEGIN:VCALENDAR
VERSION:2.0
PRODID:-// - ECPv5.8.1//NONSGML v1.0//EN
CALSCALE:GREGORIAN
METHOD:PUBLISH
X-ORIGINAL-URL:https://www.bnmit.org
X-WR-CALDESC:Events for 
BEGIN:VTIMEZONE
TZID:UTC
BEGIN:STANDARD
TZOFFSETFROM:+0000
TZOFFSETTO:+0000
TZNAME:UTC
DTSTART:20180101T000000
END:STANDARD
END:VTIMEZONE
BEGIN:VEVENT
DTSTART;VALUE=DATE:20181026
DTEND;VALUE=DATE:20181027
DTSTAMP:20260424T025552
CREATED:20210726T072043Z
LAST-MODIFIED:20210803T043208Z
UID:15875-1540512000-1540598399@www.bnmit.org
SUMMARY:ISTE STUDENT CHAPTER TECHNICAL TALK ‘A Review on Renewable & Non-renewable sources of energy’
DESCRIPTION:     This post was last updated on         August 3rd\, 2021A talk on “A Review on Renewable
URL:https://www.bnmit.org/event/iste-student-chapter-technical-talk-a-review-on-renewable-non-renewable-sources-of-energy/
CATEGORIES:Department of EEE,Home
ATTACH;FMTTYPE=image/jpeg:https://www.bnmit.org/wp-content/uploads/2021/07/bnmit_post_4h-150x150-47.jpg
ORGANIZER;CN="DEPT%20OF%20EEE%2CBNMIT":MAILTO:iitcee.bnmit@gmail.com
END:VEVENT
END:VCALENDAR