BEGIN:VCALENDAR
VERSION:2.0
PRODID:-// - ECPv5.8.1//NONSGML v1.0//EN
CALSCALE:GREGORIAN
METHOD:PUBLISH
X-ORIGINAL-URL:https://www.bnmit.org
X-WR-CALDESC:Events for 
BEGIN:VTIMEZONE
TZID:Asia/Kolkata
BEGIN:STANDARD
TZOFFSETFROM:+0530
TZOFFSETTO:+0530
TZNAME:IST
DTSTART:20250101T000000
END:STANDARD
END:VTIMEZONE
BEGIN:VEVENT
DTSTART;TZID=Asia/Kolkata:20250913T100000
DTEND;TZID=Asia/Kolkata:20250913T120000
DTSTAMP:20260420T145949
CREATED:20250924T094245Z
LAST-MODIFIED:20250924T094449Z
UID:29101-1757757600-1757764800@www.bnmit.org
SUMMARY:Machine Learning for Climate Science & Earth Observation
DESCRIPTION:IEEE Geoscience and Remote Sensing Society – SBC (SBC14831F)\, in collaboration with IEEE Computer Society – SBC (SBC14831D)\, B.N.M. Institute of Technology. To provide insights into the applications of Machine Learning in climate science and earth observation. The session aims to enhance students’ knowledge on geospatial data analysis\, environmental monitoring\, and the role of AI/ML in addressing global climate challenges. \n  \nSeptember 13\, 2025. \nVenue: Room  M309\, B.N.M. Institute of Technology\, Bengaluru \nTime: 10.00 to 12:00 Pm \n 
URL:https://www.bnmit.org/event/machine-learning-for-climate-science-earth-observation/
LOCATION:BNMIT Campus
CATEGORIES:ECE DEPT,Events,Home
ATTACH;FMTTYPE=image/jpeg:https://www.bnmit.org/wp-content/uploads/2025/09/ECE-ieee_remote_sensing_9sep25_page-0001-scaled.jpg
END:VEVENT
END:VCALENDAR