BEGIN:VCALENDAR
VERSION:2.0
PRODID:-// - ECPv5.8.1//NONSGML v1.0//EN
CALSCALE:GREGORIAN
METHOD:PUBLISH
X-ORIGINAL-URL:https://www.bnmit.org
X-WR-CALDESC:Events for 
BEGIN:VTIMEZONE
TZID:UTC
BEGIN:STANDARD
TZOFFSETFROM:+0000
TZOFFSETTO:+0000
TZNAME:UTC
DTSTART:20190101T000000
END:STANDARD
END:VTIMEZONE
BEGIN:VEVENT
DTSTART;VALUE=DATE:20190905
DTEND;VALUE=DATE:20190906
DTSTAMP:20260422T024505
CREATED:20210726T060444Z
LAST-MODIFIED:20210803T042538Z
UID:15803-1567641600-1567727999@www.bnmit.org
SUMMARY:MBA STUDENTS AT THE UNIBIC COOKIES FACTORY\, BANGALORE
DESCRIPTION:     This post was last updated on         August 3rd\, 2021
URL:https://www.bnmit.org/event/mba-students-at-the-unibic-cookies-factory-bangalore/
CATEGORIES:Home,MBA DEPT
ATTACH;FMTTYPE=image/jpeg:https://www.bnmit.org/wp-content/uploads/2021/07/bnmit_post_4h-150x150-28.jpg
END:VEVENT
END:VCALENDAR