BEGIN:VCALENDAR
VERSION:2.0
PRODID:-// - ECPv5.8.1//NONSGML v1.0//EN
CALSCALE:GREGORIAN
METHOD:PUBLISH
X-ORIGINAL-URL:https://www.bnmit.org
X-WR-CALDESC:Events for 
BEGIN:VTIMEZONE
TZID:Asia/Kolkata
BEGIN:STANDARD
TZOFFSETFROM:+0530
TZOFFSETTO:+0530
TZNAME:IST
DTSTART:20250101T000000
END:STANDARD
END:VTIMEZONE
BEGIN:VEVENT
DTSTART;VALUE=DATE:20250721
DTEND;VALUE=DATE:20250810
DTSTAMP:20260420T171021
CREATED:20250728T041331Z
LAST-MODIFIED:20250728T041356Z
UID:28197-1753056000-1754783999@www.bnmit.org
SUMMARY:Modeling and Analyzing Dynamic Systems using MATLAB Simulink on 21st July 2025 to 9th August 2025
DESCRIPTION:The Department of Electronics and Communication Engineering\, BNMIT\, in association with the IEEE Signal Processing Society\, IEEE Geoscience & Remote Sensing Society (GRSS)\, and ISTE\, successfully conducted a hands-on internship on “Modeling and Analyzing Dynamic Systems using MATLAB Simulink.”\nThe program aimed to strengthen fundamentals and applications of communication systems\, signal processing\, and control through simulation-driven learning.\nObjectives included understanding communication system elements; exploring modems\, ADC/DAC interfaces\, and control (PID) concepts; and applying these in the SIMULINK environment.\nParticipants designed and simulated end-to-end models\, analyzed system behavior\, and translated theory into practical engineering insights. \n  \nJuly 21\, 2025 to August 09\, 2025 \nVenue: Room N401\, B.N.M. Institute of Technology\, Bengaluru \nTime: 9.00am to 4:00pm \n 
URL:https://www.bnmit.org/event/modeling-and-analyzing-dynamic-systems-using-matlab-simulink/
LOCATION:BNMIT Campus
CATEGORIES:ECE DEPT,Events,Home
ATTACH;FMTTYPE=image/jpeg:https://www.bnmit.org/wp-content/uploads/2025/07/ECE-EVENTS-MATLAB.jpg
END:VEVENT
END:VCALENDAR