BEGIN:VCALENDAR
VERSION:2.0
PRODID:-// - ECPv5.8.1//NONSGML v1.0//EN
CALSCALE:GREGORIAN
METHOD:PUBLISH
X-ORIGINAL-URL:https://www.bnmit.org
X-WR-CALDESC:Events for 
BEGIN:VTIMEZONE
TZID:Asia/Kolkata
BEGIN:STANDARD
TZOFFSETFROM:+0530
TZOFFSETTO:+0530
TZNAME:IST
DTSTART:20250101T000000
END:STANDARD
END:VTIMEZONE
BEGIN:VEVENT
DTSTART;TZID=Asia/Kolkata:20250918T090000
DTEND;TZID=Asia/Kolkata:20250919T160000
DTSTAMP:20260420T150144
CREATED:20251004T050415Z
LAST-MODIFIED:20251004T050425Z
UID:29151-1758186000-1758297600@www.bnmit.org
SUMMARY:Organized two days workshop on "Product and Project Management "\,  in association with ISTE on 18 & 19 Sept 2025 at 9 am to 4 pm
DESCRIPTION:Organized two days workshop on “Product and Project Management “\, in association with ISTE on 18  & 19 Sept 2025 \nVenue: S006 \nTime: 9 am to 4 pm
URL:https://www.bnmit.org/event/organized-two-days-workshop-on-product-and-project-management-in-association-with-iste-on-18-19-sept-2025-at-9-am-to-4-pm/
LOCATION:BNMIT Campus
CATEGORIES:Events,Home,ISE DEPT
ATTACH;FMTTYPE=image/jpeg:https://www.bnmit.org/wp-content/uploads/2025/10/Hephy-workshop.jpeg
END:VEVENT
END:VCALENDAR