BEGIN:VCALENDAR
VERSION:2.0
PRODID:-// - ECPv5.8.1//NONSGML v1.0//EN
CALSCALE:GREGORIAN
METHOD:PUBLISH
X-ORIGINAL-URL:https://www.bnmit.org
X-WR-CALDESC:Events for 
BEGIN:VTIMEZONE
TZID:UTC
BEGIN:STANDARD
TZOFFSETFROM:+0000
TZOFFSETTO:+0000
TZNAME:UTC
DTSTART:20210101T000000
END:STANDARD
END:VTIMEZONE
BEGIN:VEVENT
DTSTART;TZID=UTC:20210612T143000
DTEND;TZID=UTC:20210613T163000
DTSTAMP:20260422T041507
CREATED:20210726T014145Z
LAST-MODIFIED:20210803T034132Z
UID:15643-1623508200-1623601800@www.bnmit.org
SUMMARY:Project Based Learning Using Raspberry PI
DESCRIPTION:     This post was last updated on         August 3rd\, 2021
URL:https://www.bnmit.org/event/project-based-learning-using-raspberry-pi/
CATEGORIES:ECE DEPT,Home
ATTACH;FMTTYPE=image/png:https://www.bnmit.org/wp-content/uploads/2021/07/Technical-Webinar-6.png-6.png
END:VEVENT
END:VCALENDAR