BEGIN:VCALENDAR
VERSION:2.0
PRODID:-// - ECPv5.8.1//NONSGML v1.0//EN
CALSCALE:GREGORIAN
METHOD:PUBLISH
X-ORIGINAL-URL:https://www.bnmit.org
X-WR-CALDESC:Events for 
BEGIN:VTIMEZONE
TZID:UTC
BEGIN:STANDARD
TZOFFSETFROM:+0000
TZOFFSETTO:+0000
TZNAME:UTC
DTSTART:20180101T000000
END:STANDARD
END:VTIMEZONE
BEGIN:VEVENT
DTSTART;VALUE=DATE:20180716
DTEND;VALUE=DATE:20180727
DTSTAMP:20260423T223613
CREATED:20210727T231957Z
LAST-MODIFIED:20210803T043301Z
UID:15959-1531699200-1532649599@www.bnmit.org
SUMMARY:Research Issues and Challenges in Mechanical Engineering
DESCRIPTION:     This post was last updated on         August 3rd\, 2021Research Issues and Challenges in Mechanical Engineering 16th July to 20th July\, 2018.
URL:https://www.bnmit.org/event/research-issues-and-challenges-in-mechanical-engineering/
LOCATION:BNMIT Campus
CATEGORIES:Home,ME DEPT
ATTACH;FMTTYPE=image/png:https://www.bnmit.org/wp-content/uploads/2021/07/eve42-300x200-6.png
END:VEVENT
END:VCALENDAR