BEGIN:VCALENDAR
VERSION:2.0
PRODID:-// - ECPv5.8.1//NONSGML v1.0//EN
CALSCALE:GREGORIAN
METHOD:PUBLISH
X-ORIGINAL-URL:https://www.bnmit.org
X-WR-CALDESC:Events for 
BEGIN:VTIMEZONE
TZID:UTC
BEGIN:STANDARD
TZOFFSETFROM:+0000
TZOFFSETTO:+0000
TZNAME:UTC
DTSTART:20190101T000000
END:STANDARD
END:VTIMEZONE
BEGIN:VEVENT
DTSTART;VALUE=DATE:20190828
DTEND;VALUE=DATE:20190829
DTSTAMP:20260421T211946
CREATED:20210728T010336Z
LAST-MODIFIED:20210803T042600Z
UID:16069-1566950400-1567036799@www.bnmit.org
SUMMARY:Talk on 'Preparing Engineers for Social Cause'
DESCRIPTION:     This post was last updated on         August 3rd\, 2021A talk on ‘Preparing Engineers for Social Cause’ by Mr.Kiran Sagar\, Founder of Yuva Global Foundation Trust\, Bengaluru\, was organized under IE-ISE student chapter on 28th August\, 2019.
URL:https://www.bnmit.org/event/talk-on-preparing-engineers-for-social-cause/
LOCATION:BNMIT Campus
CATEGORIES:Home,ISE DEPT
ATTACH;FMTTYPE=image/jpeg:https://www.bnmit.org/wp-content/uploads/2021/07/eve42-300x200-50.jpg
END:VEVENT
END:VCALENDAR