BEGIN:VCALENDAR
VERSION:2.0
PRODID:-// - ECPv5.8.1//NONSGML v1.0//EN
CALSCALE:GREGORIAN
METHOD:PUBLISH
X-ORIGINAL-URL:https://www.bnmit.org
X-WR-CALDESC:Events for 
BEGIN:VTIMEZONE
TZID:Asia/Kolkata
BEGIN:STANDARD
TZOFFSETFROM:+0530
TZOFFSETTO:+0530
TZNAME:IST
DTSTART:20250101T000000
END:STANDARD
END:VTIMEZONE
BEGIN:VEVENT
DTSTART;VALUE=DATE:20250627
DTEND;VALUE=DATE:20250628
DTSTAMP:20260422T100309
CREATED:20250705T042626Z
LAST-MODIFIED:20250705T042626Z
UID:27956-1750982400-1751068799@www.bnmit.org
SUMMARY:Technical Talk on VLSI Industry Prospects: Core Opportunities for ECE Graduates on  27th June 2025
DESCRIPTION:The Department of ECE\, BNMIT\, in association with IEEE Circuits and Systems Society (CAS) and the IEEE Nanotechnology Council\, organized a Technical Talk on the latest trends in VLSI and Semiconductor Technology.\nThe session was delivered by Mr. Santosh M S\, SoC Functional Lead Validation Engineer at Intel\, with 10+ years of industry experience.\nThe objective of this technical talk is to expose students to the evolving trends in VLSI and semiconductor technology\, with a focus on SoC validation. It aims to guide students on essential industry skills\, tools\, and career pathways in the semiconductor domain. The session will also foster interactive learning by addressing real-world challenges and industry expectations. Ultimately\, it seeks to motivate students to align their academic preparation with current industry demands. \n  \nJune 27\, 2025 \nVenue: Room N401\, B.N.M. Institute of Technology\, Bengaluru. \nTime: 11:30 AM \n 
URL:https://www.bnmit.org/event/technical-talk-on-vlsi-industry-prospects-core-opportunities-for-ece-graduates-on-27th-june-2025/
LOCATION:BNMIT Campus
CATEGORIES:ECE DEPT,Events,Home
ATTACH;FMTTYPE=image/jpeg:https://www.bnmit.org/wp-content/uploads/2025/07/5-scaled.jpg
END:VEVENT
END:VCALENDAR