BEGIN:VCALENDAR
VERSION:2.0
PRODID:-// - ECPv5.8.1//NONSGML v1.0//EN
CALSCALE:GREGORIAN
METHOD:PUBLISH
X-ORIGINAL-URL:https://www.bnmit.org
X-WR-CALDESC:Events for 
BEGIN:VTIMEZONE
TZID:Asia/Kolkata
BEGIN:STANDARD
TZOFFSETFROM:+0530
TZOFFSETTO:+0530
TZNAME:IST
DTSTART:20220101T000000
END:STANDARD
END:VTIMEZONE
BEGIN:VEVENT
DTSTART;TZID=Asia/Kolkata:20220817T103000
DTEND;TZID=Asia/Kolkata:20220817T123000
DTSTAMP:20260421T074708
CREATED:20230124T115323Z
LAST-MODIFIED:20230124T115413Z
UID:20153-1660732200-1660739400@www.bnmit.org
SUMMARY:Technical Talk
DESCRIPTION:Technical talk  on “5 factors for a successful Start-Up” by  Mr.Raghuveer S Bhat\, VC Analyst\, StartupXseed Ventures\, Bengaluru \n  \n  \n 
URL:https://www.bnmit.org/event/technical-talk/
LOCATION:BNMIT Campus
CATEGORIES:Department of EEE,Home
ATTACH;FMTTYPE=image/jpeg:https://www.bnmit.org/wp-content/uploads/2023/01/TechnicalTalk-scaled.jpg
END:VEVENT
END:VCALENDAR