BEGIN:VCALENDAR
VERSION:2.0
PRODID:-// - ECPv5.8.1//NONSGML v1.0//EN
CALSCALE:GREGORIAN
METHOD:PUBLISH
X-ORIGINAL-URL:https://www.bnmit.org
X-WR-CALDESC:Events for 
BEGIN:VTIMEZONE
TZID:UTC
BEGIN:STANDARD
TZOFFSETFROM:+0000
TZOFFSETTO:+0000
TZNAME:UTC
DTSTART:20190101T000000
END:STANDARD
END:VTIMEZONE
BEGIN:VEVENT
DTSTART;VALUE=DATE:20190920
DTEND;VALUE=DATE:20190922
DTSTAMP:20260424T034857
CREATED:20210728T004751Z
LAST-MODIFIED:20210803T042417Z
UID:16051-1568937600-1569110399@www.bnmit.org
SUMMARY:Workshop on 'Application Development using Microservices Architecture'
DESCRIPTION:     This post was last updated on         August 3rd\, 2021On 20th and 21st September\, 2019\, a workshop on Application Development\, using Microservices Architecture was conducted under CSI-BNMIT student chapter. Mr. Prashanth Raghu\, Senior Backend Engineer\, Signeasy Technologies Pvt. Ltd was the resource person.
URL:https://www.bnmit.org/event/workshop-on-application-development-using-microservices-architecture/
CATEGORIES:Home,ISE DEPT
ATTACH;FMTTYPE=image/jpeg:https://www.bnmit.org/wp-content/uploads/2021/07/eve42-300x200-46.jpg
END:VEVENT
END:VCALENDAR