BEGIN:VCALENDAR
VERSION:2.0
PRODID:-// - ECPv5.8.1//NONSGML v1.0//EN
CALSCALE:GREGORIAN
METHOD:PUBLISH
X-ORIGINAL-URL:https://www.bnmit.org
X-WR-CALDESC:Events for 
BEGIN:VTIMEZONE
TZID:UTC
BEGIN:STANDARD
TZOFFSETFROM:+0000
TZOFFSETTO:+0000
TZNAME:UTC
DTSTART:20190101T000000
END:STANDARD
END:VTIMEZONE
BEGIN:VEVENT
DTSTART;VALUE=DATE:20191018
DTEND;VALUE=DATE:20191019
DTSTAMP:20260424T035046
CREATED:20210728T003357Z
LAST-MODIFIED:20210803T042145Z
UID:16031-1571356800-1571443199@www.bnmit.org
SUMMARY:WORKSHOP ON HR ANALYTICS AND MARKETING ANALYTICS
DESCRIPTION:     This post was last updated on         August 3rd\, 2021One day workshop was organized on HR Analytics and Marketing Research on October 18\, 2019. These two papers were newly introduced for third semester MBA HR and Marketing specialization respectively. The faculties teaching these subjects across VTU afﬁliated colleges in Karnataka attended this program. Industry experts from the ﬁeld of HR and Marketing Analytics were invited for the program. \nRamesh Sundararajan\, HR Analytics Consultant\, spoke about the content and details of HR analytics syllabus of VTU and explained the approach and the application of the concepts in the industry \nThe session on Marketing Analytics was handled by Saurabh Rishi\, a Marketing Analytics Consultant. He threw light upon various marketing research and analytics carried in the industry and also briefed about various software packages available in the industry to carry out analytics.
URL:https://www.bnmit.org/event/workshop-on-hr-analytics-and-marketing-analytics/
LOCATION:BNMIT Campus
CATEGORIES:Home,MBA DEPT
ATTACH;FMTTYPE=image/jpeg:https://www.bnmit.org/wp-content/uploads/2021/07/eve42-300x200-44.jpg
END:VEVENT
END:VCALENDAR