BEGIN:VCALENDAR
VERSION:2.0
PRODID:-// - ECPv5.8.1//NONSGML v1.0//EN
CALSCALE:GREGORIAN
METHOD:PUBLISH
X-ORIGINAL-URL:https://www.bnmit.org
X-WR-CALDESC:Events for 
BEGIN:VTIMEZONE
TZID:UTC
BEGIN:STANDARD
TZOFFSETFROM:+0000
TZOFFSETTO:+0000
TZNAME:UTC
DTSTART:20190101T000000
END:STANDARD
END:VTIMEZONE
BEGIN:VEVENT
DTSTART;VALUE=DATE:20191011
DTEND;VALUE=DATE:20191013
DTSTAMP:20260423T225552
CREATED:20210726T070850Z
LAST-MODIFIED:20210803T042327Z
UID:15864-1570752000-1570924799@www.bnmit.org
SUMMARY:Workshop on ‘Internet of Things using Raspberry Pi’
DESCRIPTION:     This post was last updated on         August 3rd\, 2021A two-day workshop on ‘IoT using Raspberry Pi’ was organized by the Department of EEE under Institution of Engineers India Students’ Chapter\, BNMIT. This workshop was an opportunity for the third-year undergraduate students to enrich their knowledge and skills in developing various engineering solutions. The hands-on sessions were conducted by the industry experts from M/s Telos Technologies\, Bengaluru and RS Components\, Bengaluru. The participants were able to gain practical knowledge about Python Programming\, Raspberry Pi Concepts\, Interfacing Sensors and Communicating the Data Acquired to the Cloud. 
URL:https://www.bnmit.org/event/workshop-on-internet-of-things-using-raspberry-pi/
CATEGORIES:Department of EEE,Home
ATTACH;FMTTYPE=image/jpeg:https://www.bnmit.org/wp-content/uploads/2021/07/bnmit_post_4h-150x150-44.jpg
END:VEVENT
END:VCALENDAR