BEGIN:VCALENDAR
VERSION:2.0
PRODID:-// - ECPv5.8.1//NONSGML v1.0//EN
CALSCALE:GREGORIAN
METHOD:PUBLISH
X-ORIGINAL-URL:https://www.bnmit.org
X-WR-CALDESC:Events for 
BEGIN:VTIMEZONE
TZID:Asia/Kolkata
BEGIN:STANDARD
TZOFFSETFROM:+0530
TZOFFSETTO:+0530
TZNAME:IST
DTSTART:20250101T000000
END:STANDARD
END:VTIMEZONE
BEGIN:VEVENT
DTSTART;VALUE=DATE:20250602
DTEND;VALUE=DATE:20250628
DTSTAMP:20260421T034240
CREATED:20251128T042203Z
LAST-MODIFIED:20251128T042442Z
UID:29396-1748822400-1751068799@www.bnmit.org
SUMMARY:Organised an Internship on penetration testing: Concepts\, Tools and Techniques in Cybersecurity
DESCRIPTION:Date : 02-06-25 to 27-06-2025\nTime: 9:00 Am to 4:00 Pm.\nVenue: M-104\n\n\nThe workshop provides a strong foundation in penetration testing by covering core principles and practical approaches. Participants will learn various frameworks\, techniques\, and tools used by security professionals. Real-world scenarios are demonstrated through guided\, interactive lab sessions. By the end\, learners will be equipped to identify\, assess\, and document vulnerabilities responsibly.
URL:https://www.bnmit.org/event/organised-an-internship-on-penetration-testing-concepts-tools-and-techniques-in-cybersecurity/
LOCATION:BNMIT Campus
CATEGORIES:CSE DEPT,Events,Home
ATTACH;FMTTYPE=image/png:https://www.bnmit.org/wp-content/uploads/2025/11/penetrationtesting_CSE_Internship_mkk_jun25.png
END:VEVENT
BEGIN:VEVENT
DTSTART;VALUE=DATE:20250602
DTEND;VALUE=DATE:20250603
DTSTAMP:20260421T034240
CREATED:20250704T102708Z
LAST-MODIFIED:20250704T102901Z
UID:27940-1748822400-1748908799@www.bnmit.org
SUMMARY:4-Week Internship & Hackathon on Cyber Security on  2nd June 2025
DESCRIPTION:The Department of ECE\, BNMIT\, in association with Theta Dynamics Pvt. Ltd.\, ISTE Student Chapter\, and the IEEE Student Branch\, is organizing a 4-week Internship & Hackathon on Cyber Security starting from 2nd June 2025. \nThe program will offer hands-on training in secure coding\, cloud security\, and threat modeling. Students will gain practical exposure by building secure applications and presenting defense strategies. \n  \nJune 2\, 2025 \nVenue: Room S006\, B.N.M. Institute of Technology\, Bengaluru. \nTime: 9:00 AM to 4:00 PM \n 
URL:https://www.bnmit.org/event/4-week-internship-hackathon-on-cyber-security/
LOCATION:BNMIT Campus
CATEGORIES:ECE DEPT,Events,Home
ATTACH;FMTTYPE=image/jpeg:https://www.bnmit.org/wp-content/uploads/2025/07/2-scaled.jpg
END:VEVENT
BEGIN:VEVENT
DTSTART;VALUE=DATE:20250602
DTEND;VALUE=DATE:20250603
DTSTAMP:20260421T034240
CREATED:20250705T032136Z
LAST-MODIFIED:20250705T032921Z
UID:27949-1748822400-1748908799@www.bnmit.org
SUMMARY:4-Week Internship Program on Advanced Robotics Operating Systems on  2nd June 2025
DESCRIPTION:The Department of ECE\, BNMIT is organizing a 4-week Internship Program on Advanced Robotics Operating Systems\, in collaboration with Robomanthan Pvt. Ltd.\, \nstarting from 2nd June 2025. Students will explore foundational concepts of Robotics and IoT with hands-on experience in ROS\, Arduino\, and ESP32. The program aims to build practical embedded system skills and introduce real-world robotics integration. \nJune 2\, 2025 \nVenue: N504\, B.N.M. Institute of Technology\, Bengaluru \nTime: 9:00 AM to 4:00 PM \n 
URL:https://www.bnmit.org/event/4-week-internship-program-on-advanced-robotics-operating-systems-on-2nd-june-2025/
LOCATION:BNMIT Campus
CATEGORIES:ECE DEPT,Events,Home
ATTACH;FMTTYPE=image/jpeg:https://www.bnmit.org/wp-content/uploads/2025/07/3-scaled.jpg
END:VEVENT
END:VCALENDAR