BEGIN:VCALENDAR
VERSION:2.0
PRODID:-// - ECPv5.8.1//NONSGML v1.0//EN
CALSCALE:GREGORIAN
METHOD:PUBLISH
X-ORIGINAL-URL:https://www.bnmit.org
X-WR-CALDESC:Events for 
BEGIN:VTIMEZONE
TZID:Asia/Kolkata
BEGIN:STANDARD
TZOFFSETFROM:+0530
TZOFFSETTO:+0530
TZNAME:IST
DTSTART:20250101T000000
END:STANDARD
END:VTIMEZONE
BEGIN:VEVENT
DTSTART;VALUE=DATE:20250903
DTEND;VALUE=DATE:20250904
DTSTAMP:20260420T233427
CREATED:20250912T091727Z
LAST-MODIFIED:20250912T091927Z
UID:29029-1756857600-1756943999@www.bnmit.org
SUMMARY:ROS Nexus- IEEE Robotics and Automation Society\, organized a Hackathon on Robotics
DESCRIPTION:The Department of ECE\, BNMIT\, in association with IEEE Bangalore Section\, IEEE Robotics and Automation Society\, organized a Hackathon on Robotics” on 3rd September 2025.To provide a platform for students and innovators to explore the applications of ROS (Robot Operating System) in real-world problem-solving.To encourage teamwork\, creativity\, and technical skills in designing robotics solutions for military\, agriculture\, and healthcare domains.To promote hands-on learning through an 8-hour hackathon challenge\, fostering innovation and practical exposure. \n  \nSeptember 03\, 2025. \nVenue: Room N505\, B.N.M. Institute of Technology\, Bengaluru \nTime: 11.00 Am \n 
URL:https://www.bnmit.org/event/ros-nexus/
LOCATION:BNMIT Campus
CATEGORIES:ECE DEPT,Events,Home
ATTACH;FMTTYPE=image/jpeg:https://www.bnmit.org/wp-content/uploads/2025/09/ECE-ROS-NEXUS.jpg
END:VEVENT
END:VCALENDAR