BEGIN:VCALENDAR
VERSION:2.0
PRODID:-// - ECPv5.8.1//NONSGML v1.0//EN
CALSCALE:GREGORIAN
METHOD:PUBLISH
X-ORIGINAL-URL:https://www.bnmit.org
X-WR-CALDESC:Events for 
BEGIN:VTIMEZONE
TZID:Asia/Kolkata
BEGIN:STANDARD
TZOFFSETFROM:+0530
TZOFFSETTO:+0530
TZNAME:IST
DTSTART:20250101T000000
END:STANDARD
END:VTIMEZONE
BEGIN:VEVENT
DTSTART;TZID=Asia/Kolkata:20250927T090000
DTEND;TZID=Asia/Kolkata:20250927T110000
DTSTAMP:20260420T233021
CREATED:20251004T051101Z
LAST-MODIFIED:20251004T051206Z
UID:29156-1758963600-1758970800@www.bnmit.org
SUMMARY:Organized Technical Talk on "Relevance and Importance of Cyber security "\,  in association with ACM on 27 Sept 2025 at 9 am to 11 am
DESCRIPTION:Organized Technical Talk on “Relevance and Importance of Cyber security “\, in association with ACM on 27 Sept 2025 at 9 am to 11 am \nVenue: A215 Seminar Hall\, Auditorium block \nTime: 9 am to 11am
URL:https://www.bnmit.org/event/organized-technical-talk-on-relevance-and-importance-of-cyber-security-in-association-with-acm-on-27-sept-2025-at-9-am-to-11-am/
LOCATION:BNMIT Campus
CATEGORIES:Events,Home,ISE DEPT
ATTACH;FMTTYPE=image/jpeg:https://www.bnmit.org/wp-content/uploads/2025/10/tech-talk-cyber-security.jpeg
END:VEVENT
END:VCALENDAR