BEGIN:VCALENDAR
VERSION:2.0
PRODID:-// - ECPv5.8.1//NONSGML v1.0//EN
CALSCALE:GREGORIAN
METHOD:PUBLISH
X-ORIGINAL-URL:https://www.bnmit.org
X-WR-CALDESC:Events for 
BEGIN:VTIMEZONE
TZID:Asia/Kolkata
BEGIN:STANDARD
TZOFFSETFROM:+0530
TZOFFSETTO:+0530
TZNAME:IST
DTSTART:20260101T000000
END:STANDARD
END:VTIMEZONE
BEGIN:VEVENT
DTSTART;TZID=Asia/Kolkata:20260131T100000
DTEND;TZID=Asia/Kolkata:20260131T160000
DTSTAMP:20260420T162031
CREATED:20260203T085757Z
LAST-MODIFIED:20260203T085808Z
UID:29842-1769853600-1769875200@www.bnmit.org
SUMMARY:Organized a Alumni series talk "Pathway to profession : Alumni Mentoring Program "\,  in association with IE on 31 Jan 2026
DESCRIPTION:Organized a Alumni series talk “Pathway to profession : Alumni Mentoring Program “\, in association with IE on 31 Jan 2026\,  10am to 4pm
URL:https://www.bnmit.org/event/pathway-to-profession-alumni-mentoring-program/
LOCATION:BNMIT Campus
CATEGORIES:Events,Home,ISE DEPT
ATTACH;FMTTYPE=image/jpeg:https://www.bnmit.org/wp-content/uploads/2026/02/Alumini_mentoring-Event_page-0001.jpg
END:VEVENT
END:VCALENDAR