BEGIN:VCALENDAR
VERSION:2.0
PRODID:-// - ECPv5.8.1//NONSGML v1.0//EN
CALSCALE:GREGORIAN
METHOD:PUBLISH
X-ORIGINAL-URL:https://www.bnmit.org
X-WR-CALDESC:Events for 
BEGIN:VTIMEZONE
TZID:Asia/Kolkata
BEGIN:STANDARD
TZOFFSETFROM:+0530
TZOFFSETTO:+0530
TZNAME:IST
DTSTART:20210101T000000
END:STANDARD
TZID:UTC
BEGIN:STANDARD
TZOFFSETFROM:+0000
TZOFFSETTO:+0000
TZNAME:UTC
DTSTART:20190101T000000
END:STANDARD
END:VTIMEZONE
BEGIN:VEVENT
DTSTART;TZID=Asia/Kolkata:20230804T140000
DTEND;TZID=Asia/Kolkata:20230804T160000
DTSTAMP:20260422T162035
CREATED:20230801T142713Z
LAST-MODIFIED:20230801T142713Z
UID:21422-1691157600-1691164800@www.bnmit.org
SUMMARY:ISRO - U R Rao Satellite Centre\, Bangalore
DESCRIPTION:Conducted By Resource person :\nIndustrial Visit   \nIn Association with /Under :\nBITES
URL:https://www.bnmit.org/event/isro-u-r-rao-satellite-centre-bangalore/
LOCATION:BNMIT Campus
CATEGORIES:Home,ISE DEPT
ATTACH;FMTTYPE=application/pdf:https://www.bnmit.org/wp-content/uploads/2023/08/Slno2_bites_I_V_Aug_23.pdf
END:VEVENT
BEGIN:VEVENT
DTSTART;TZID=Asia/Kolkata:20230803T103000
DTEND;TZID=Asia/Kolkata:20230803T123000
DTSTAMP:20260422T162035
CREATED:20230801T142436Z
LAST-MODIFIED:20230801T142436Z
UID:21419-1691058600-1691065800@www.bnmit.org
SUMMARY:Overview of AR/VR and it's real world enterprise applications
DESCRIPTION:Conducted By Resource person :\nMr. Vamsidhar Sunkari \nSenior Expert- Visual Computing \, Bosch Global Software Technologies \nIn Association with /Under :\nBITES
URL:https://www.bnmit.org/event/overview-of-ar-vr-and-its-real-world-enterprise-applications/
LOCATION:BNMIT Campus
CATEGORIES:Home,ISE DEPT
ATTACH;FMTTYPE=application/pdf:https://www.bnmit.org/wp-content/uploads/2023/08/Slno1_BITES-ARVR-1.pdf
END:VEVENT
BEGIN:VEVENT
DTSTART;TZID=Asia/Kolkata:20230719T090000
DTEND;TZID=Asia/Kolkata:20230719T163000
DTSTAMP:20260422T162035
CREATED:20230801T135231Z
LAST-MODIFIED:20230801T135231Z
UID:21416-1689757200-1689784200@www.bnmit.org
SUMMARY:A Workshop on Data Analysis using Python
DESCRIPTION:Conducted By Resource person :\nMr. M S Sriharsha \nCorporate Trainer\, Smarcon Technology\, Bangalore \nIn Association with /Under :\nIndian Society for Technical Education (ISTE)
URL:https://www.bnmit.org/event/a-workshop-on-data-analysis-using-python/
LOCATION:BNMIT Campus
CATEGORIES:Home,ISE DEPT
ATTACH;FMTTYPE=application/pdf:https://www.bnmit.org/wp-content/uploads/2023/08/slno1_ISTE_July_2023_3.pdf
END:VEVENT
BEGIN:VEVENT
DTSTART;TZID=Asia/Kolkata:20230718T143000
DTEND;TZID=Asia/Kolkata:20230718T160000
DTSTAMP:20260422T162035
CREATED:20230801T134914Z
LAST-MODIFIED:20230801T134914Z
UID:21413-1689690600-1689696000@www.bnmit.org
SUMMARY:A Workshop on “Lean Startup and Minimum Viable Product / Business”
DESCRIPTION:Conducted By Resource person :\nMr. Brahma S P\nDigital Specialist Engineer \, Infosys\, Bangalore \nIn Association with /Under :\nInstitution’s Innovation Council
URL:https://www.bnmit.org/event/a-workshop-on-lean-startup-and-minimum-viable-product-business/
LOCATION:BNMIT Campus
CATEGORIES:Home,ISE DEPT
ATTACH;FMTTYPE=application/pdf:https://www.bnmit.org/wp-content/uploads/2023/08/Slno2_IIC_Brahma_July_2023_v2.pdf
END:VEVENT
BEGIN:VEVENT
DTSTART;TZID=Asia/Kolkata:20230707T093000
DTEND;TZID=Asia/Kolkata:20230708T163000
DTSTAMP:20260422T162035
CREATED:20230801T134335Z
LAST-MODIFIED:20230801T134335Z
UID:21410-1688722200-1688833800@www.bnmit.org
SUMMARY:Two Day’s Workshop On Data science using Python
DESCRIPTION:Conducted By Resource person :\nMr. ShreekantJere\nAssociate Principal Data Scientist\, Accenture AI\, Bangalore \nIn Association with /Under :\nInstitution of Engineers(IEI)
URL:https://www.bnmit.org/event/two-days-workshop-on-data-science-using-python/
LOCATION:BNMIT Campus
CATEGORIES:Home,ISE DEPT
ATTACH;FMTTYPE=application/pdf:https://www.bnmit.org/wp-content/uploads/2023/08/Slno3_IEI_July_2023_V1V2.pdf
END:VEVENT
BEGIN:VEVENT
DTSTART;TZID=Asia/Kolkata:20230518T120000
DTEND;TZID=Asia/Kolkata:20230518T160000
DTSTAMP:20260422T162036
CREATED:20230801T132659Z
LAST-MODIFIED:20230801T132659Z
UID:21407-1684411200-1684425600@www.bnmit.org
SUMMARY:Talk on “The growing threat of cyberattacks : Why cybersecurity matters”
DESCRIPTION:Conducted By Resource person :\nMs. Prathyusha Ayyagari\nSenior Security Analyst\, Accenture\, Bengaluru \nIn Association with /Under :\nAlumni Series Talk
URL:https://www.bnmit.org/event/talk-on-the-growing-threat-of-cyberattacks-why-cybersecurity-matters/
LOCATION:BNMIT Campus
CATEGORIES:Home,ISE DEPT
ATTACH;FMTTYPE=application/pdf:https://www.bnmit.org/wp-content/uploads/2023/08/Slno4_ISE_ALUMNI_18_May_23_v1.pdf
END:VEVENT
BEGIN:VEVENT
DTSTART;TZID=Asia/Kolkata:20230509T093000
DTEND;TZID=Asia/Kolkata:20230509T180000
DTSTAMP:20260422T162036
CREATED:20230801T125820Z
LAST-MODIFIED:20230801T125820Z
UID:21404-1683624600-1683655200@www.bnmit.org
SUMMARY:One Day Workshop On “Blockchain Technology & its Applications”
DESCRIPTION:Conducted By Resource person :\nDr.Gururaj H L\nSMIEEE\, ACM Distinguished Speaker\, Associate Professor\, Manipal Institute of Technology\, Bengaluru  \nIn Association with /Under :\nInstitution of Engineers (IEI)
URL:https://www.bnmit.org/event/one-day-workshop-on-blockchain-technology-its-applications/
LOCATION:BNMIT Campus
CATEGORIES:Home,ISE DEPT
ATTACH;FMTTYPE=application/pdf:https://www.bnmit.org/wp-content/uploads/2023/08/Slno5_IEI_MAY_2023.pdf
END:VEVENT
BEGIN:VEVENT
DTSTART;TZID=Asia/Kolkata:20230429T140000
DTEND;TZID=Asia/Kolkata:20230429T180000
DTSTAMP:20260422T162036
CREATED:20230801T125042Z
LAST-MODIFIED:20230801T125059Z
UID:21401-1682776800-1682791200@www.bnmit.org
SUMMARY:FCD and a talk on“STAY AHEAD IN THE AGE OF DIGITALAND AI DISRUPTION: A Strategic Approach”
DESCRIPTION:Conducted By Resource person :\nMr. Vinay Sampath Kumar\nEngineering Leader\, Salesforce\, Bengaluru  \nIn Association with /Under :\nISTE Student Chapter – BNMIT
URL:https://www.bnmit.org/event/fcd-and-a-talk-onstay-ahead-in-the-age-of-digitaland-ai-disruption-a-strategic-approach/
LOCATION:BNMIT Campus
CATEGORIES:Home,ISE DEPT
ATTACH;FMTTYPE=application/pdf:https://www.bnmit.org/wp-content/uploads/2023/08/Slno6_Invitation_FCD_29-April_2023-2.pdf
END:VEVENT
BEGIN:VEVENT
DTSTART;TZID=Asia/Kolkata:20230428T110000
DTEND;TZID=Asia/Kolkata:20230428T163000
DTSTAMP:20260422T162036
CREATED:20230801T124533Z
LAST-MODIFIED:20230801T124629Z
UID:21398-1682679600-1682699400@www.bnmit.org
SUMMARY:Journey to Master’s - My Voyage
DESCRIPTION:Conducted By Resource person :\nMs. Apoorva Herle \nData Analyst\, KPMG\, Bengaluru  \nIn Association with /Under :\nAlumni Series Talk
URL:https://www.bnmit.org/event/journey-to-masters-my-voyage/
LOCATION:BNMIT Campus
CATEGORIES:Home,ISE DEPT
ATTACH;FMTTYPE=application/pdf:https://www.bnmit.org/wp-content/uploads/2023/08/Slno7_ISE_ALUMNI_28APRIL_23.pdf
END:VEVENT
BEGIN:VEVENT
DTSTART;TZID=Asia/Kolkata:20230410T090000
DTEND;TZID=Asia/Kolkata:20230410T170000
DTSTAMP:20260422T162036
CREATED:20230801T124246Z
LAST-MODIFIED:20230802T052434Z
UID:21396-1681117200-1681146000@www.bnmit.org
SUMMARY:Workshop On Tableau
DESCRIPTION:Conducted By Resource person :\nMs. Sindhu Srinivas \nAssistant Director\, Cognizant\, Bangalore \nIn Association with /Under :\nPlacement Dept
URL:https://www.bnmit.org/event/workshop-on-tableau/
LOCATION:BNMIT Campus
CATEGORIES:Home,ISE DEPT
ATTACH;FMTTYPE=application/pdf:https://www.bnmit.org/wp-content/uploads/2023/08/Slno8_DOC-20230409.pdf
END:VEVENT
BEGIN:VEVENT
DTSTART;TZID=Asia/Kolkata:20230403T090000
DTEND;TZID=Asia/Kolkata:20230407T163000
DTSTAMP:20260422T162036
CREATED:20230801T123620Z
LAST-MODIFIED:20230801T123620Z
UID:21393-1680512400-1680885000@www.bnmit.org
SUMMARY:SDP on  Natural Language Processing using Python
DESCRIPTION:Conducted By Resource person :\nMr. Shreekant Jere \nAssociate Principal Data Scientist\, Accenture AI\, Bangalore \nIn Association with /Under :\nSkill Development Program
URL:https://www.bnmit.org/event/sdp-on-natural-language-processing-using-python/
LOCATION:BNMIT Campus
CATEGORIES:Home,ISE DEPT
ATTACH;FMTTYPE=application/pdf:https://www.bnmit.org/wp-content/uploads/2023/08/Slno9_ise_SDP_NLP_APR_23_v1.pdf
END:VEVENT
BEGIN:VEVENT
DTSTART;TZID=Asia/Kolkata:20221217T100000
DTEND;TZID=Asia/Kolkata:20221217T163000
DTSTAMP:20260422T162036
CREATED:20230801T120844Z
LAST-MODIFIED:20230801T121709Z
UID:21373-1671271200-1671294600@www.bnmit.org
SUMMARY:A talk on “My Motivational Story”
DESCRIPTION:Conducted By Resource person :\nMr. Skanda Prasad S\nSenior Associate\, Morgan Stanley Bengaluru \nIn Association with /Under :\nInstitution’s Innovation Council
URL:https://www.bnmit.org/event/a-talk-on-my-motivational-story/
LOCATION:BNMIT Campus
CATEGORIES:Home,ISE DEPT
ATTACH;FMTTYPE=application/pdf:https://www.bnmit.org/wp-content/uploads/2023/08/Slno10_ISE_ALUMNI_17DEC_22.pdf
END:VEVENT
BEGIN:VEVENT
DTSTART;TZID=Asia/Kolkata:20221202T090000
DTEND;TZID=Asia/Kolkata:20221203T163000
DTSTAMP:20260422T162036
CREATED:20221209T095900Z
LAST-MODIFIED:20221212T104613Z
UID:19551-1669971600-1670085000@www.bnmit.org
SUMMARY:Cyber Security & Ethical Hacking
DESCRIPTION:Cyber Security & Ethical Hacking
URL:https://www.bnmit.org/event/cyber-security-ethical-hacking/
LOCATION:BNMIT Campus
CATEGORIES:Home,ISE DEPT
ATTACH;FMTTYPE=application/pdf:https://www.bnmit.org/wp-content/uploads/2022/12/IEI_2_Dec_2022v3-1.pdf
END:VEVENT
BEGIN:VEVENT
DTSTART;VALUE=DATE:20221119
DTEND;VALUE=DATE:20221120
DTSTAMP:20260422T162036
CREATED:20221209T102004Z
LAST-MODIFIED:20221212T104558Z
UID:19558-1668816000-1668902399@www.bnmit.org
SUMMARY:Introduction to Product Development
DESCRIPTION:Introduction to Product Development
URL:https://www.bnmit.org/event/introduction-to-product-development/
LOCATION:BNMIT Campus
CATEGORIES:Home,ISE DEPT
ATTACH;FMTTYPE=application/pdf:https://www.bnmit.org/wp-content/uploads/2022/12/ISE_Product_Development_IEI_NOV22_ver2.pdf
END:VEVENT
BEGIN:VEVENT
DTSTART;TZID=Asia/Kolkata:20211217T090000
DTEND;TZID=Asia/Kolkata:20211218T163000
DTSTAMP:20260422T162036
CREATED:20211217T052614Z
LAST-MODIFIED:20211217T052614Z
UID:17241-1639731600-1639845000@www.bnmit.org
SUMMARY:TechnoHabba - A Hackathon on Cyber Security
DESCRIPTION:Poster-new-a3-3 (1)
URL:https://www.bnmit.org/event/technohabba-a-hackathon-on-cyber-security/
LOCATION:BNMIT Campus
CATEGORIES:Home,ISE DEPT
ATTACH;FMTTYPE=application/pdf:https://www.bnmit.org/wp-content/uploads/2021/12/Poster-new-a3-3-1-1.pdf
END:VEVENT
BEGIN:VEVENT
DTSTART;TZID=Asia/Kolkata:20211203T090000
DTEND;TZID=Asia/Kolkata:20211204T170000
DTSTAMP:20260422T162036
CREATED:20211203T103130Z
LAST-MODIFIED:20211203T103130Z
UID:17194-1638522000-1638637200@www.bnmit.org
SUMMARY:Workshop on Natural Language Processing
DESCRIPTION:
URL:https://www.bnmit.org/event/workshop-on-natural-language-processing/
LOCATION:Department of ISE
CATEGORIES:Home,ISE DEPT
ATTACH;FMTTYPE=image/jpeg:https://www.bnmit.org/wp-content/uploads/2021/12/ISE_IE_EVENT.jpg
END:VEVENT
BEGIN:VEVENT
DTSTART;TZID=UTC:20210920T090000
DTEND;TZID=UTC:20210924T170000
DTSTAMP:20260422T162036
CREATED:20210723T015119Z
LAST-MODIFIED:20210919T235523Z
UID:15549-1632128400-1632502800@www.bnmit.org
SUMMARY:AICTE- ATAL online FDP on "Big Data and Analytics"
DESCRIPTION:
URL:https://www.bnmit.org/event/aicte-atal-online-fdp-on-big-data-and-analytics-2/
CATEGORIES:Home,ISE DEPT
ATTACH;FMTTYPE=image/jpeg:https://www.bnmit.org/wp-content/uploads/2021/07/ISE_ATAL_Big-DATA.jpeg
END:VEVENT
BEGIN:VEVENT
DTSTART;TZID=UTC:20210823T090000
DTEND;TZID=UTC:20210827T170000
DTSTAMP:20260422T162036
CREATED:20210805T013619Z
LAST-MODIFIED:20210805T013619Z
UID:16173-1629709200-1630083600@www.bnmit.org
SUMMARY:AICTE- ATAL FDP on “Research and Growth for Innovation”
DESCRIPTION:
URL:https://www.bnmit.org/event/aicte-atal-fdp-on-research-and-growth-for-innovation/
CATEGORIES:Home,ISE DEPT
END:VEVENT
BEGIN:VEVENT
DTSTART;TZID=UTC:20210619T180000
DTEND;TZID=UTC:20210619T190000
DTSTAMP:20260422T162036
CREATED:20210726T011233Z
LAST-MODIFIED:20210803T032908Z
UID:15627-1624125600-1624129200@www.bnmit.org
SUMMARY:Virtual webinar on "Patent/Paper submission what all you need to know: Ideation\, format and evaluation" under ISTE Student chapter
DESCRIPTION:Speaker: Mrs. Chethana HB\, \ntechnical manager\, Khoros India R&D
URL:https://www.bnmit.org/event/virtual-webinar-on-patent-paper-submission-what-all-you-need-to-know-ideation-format-and-evaluation-under-iste-student-chapter/
CATEGORIES:Home,ISE DEPT
ATTACH;FMTTYPE=image/jpeg:https://www.bnmit.org/wp-content/uploads/2021/07/events-dummy.jpg
END:VEVENT
BEGIN:VEVENT
DTSTART;TZID=UTC:20210515T180000
DTEND;TZID=UTC:20210515T190000
DTSTAMP:20260422T162036
CREATED:20210726T010131Z
LAST-MODIFIED:20210803T033308Z
UID:15621-1621101600-1621105200@www.bnmit.org
SUMMARY:Alumni Series Virtual Webinar Interview 2.0
DESCRIPTION:Speakers :  Ms. Divya Gadhaiya
URL:https://www.bnmit.org/event/alumni-series-virtual-webinar-interview-2-0-2/
CATEGORIES:Home,ISE DEPT
ATTACH;FMTTYPE=image/jpeg:https://www.bnmit.org/wp-content/uploads/2021/07/events-dummy.jpg
END:VEVENT
BEGIN:VEVENT
DTSTART;TZID=UTC:20210507T180000
DTEND;TZID=UTC:20210507T190000
DTSTAMP:20260422T162036
CREATED:20210726T010936Z
LAST-MODIFIED:20210803T033706Z
UID:15625-1620410400-1620414000@www.bnmit.org
SUMMARY:Alumni Series Virtual Webinar Hustle-The Force
DESCRIPTION:Speaker: Mr. Nitin Nadig 
URL:https://www.bnmit.org/event/alumni-series-virtual-webinar-hustle-the-force/
CATEGORIES:Home,ISE DEPT
ATTACH;FMTTYPE=image/jpeg:https://www.bnmit.org/wp-content/uploads/2021/07/events-dummy.jpg
END:VEVENT
BEGIN:VEVENT
DTSTART;TZID=UTC:20201226T180000
DTEND;TZID=UTC:20201226T190000
DTSTAMP:20260422T162036
CREATED:20210726T010552Z
LAST-MODIFIED:20210803T034337Z
UID:15623-1609005600-1609009200@www.bnmit.org
SUMMARY:Virtual webinar Connect Alumnus
DESCRIPTION:Speakers : Mr. Nitin Nadig \, Ms. Darshini\, Mr. Sarthak Surekha\, Ms. Sanchitha Thanay
URL:https://www.bnmit.org/event/virtual-webinar-connect-alumnus/
CATEGORIES:Home,ISE DEPT
ATTACH;FMTTYPE=image/jpeg:https://www.bnmit.org/wp-content/uploads/2021/07/events-dummy.jpg
END:VEVENT
BEGIN:VEVENT
DTSTART;VALUE=DATE:20200527
DTEND;VALUE=DATE:20200528
DTSTAMP:20260422T162036
CREATED:20210728T004233Z
LAST-MODIFIED:20210803T041106Z
UID:16043-1590537600-1590623999@www.bnmit.org
SUMMARY:Virtual Faculty Development on ‘Prerana – The New Warriors in the New Normal World!’
DESCRIPTION:BNMIT in collaboration with BITES and Disha Charitable Trust\, Bangalore had organized Virtual Faculty Development Program ‘Prerana – The New Warriors in the New Normal World!’ on 27th May 2020. The objective of the FDP was to strengthen the faculty members and give tips to manage the emotional stress during Lockdown due to COVID 19. Smt. Shoba Sundereshan\, Smt. Rekha Ramachandran and Meera Balaganeshan were the resource persons.
URL:https://www.bnmit.org/event/virtual-faculty-development-on-prerana-the-new-warriors-in-the-new-normal-world/
LOCATION:Bangalore\, Bangalore
CATEGORIES:Home,ISE DEPT
ATTACH;FMTTYPE=image/jpeg:https://www.bnmit.org/wp-content/uploads/2021/07/events-dummy.jpg
END:VEVENT
BEGIN:VEVENT
DTSTART;VALUE=DATE:20200527
DTEND;VALUE=DATE:20200528
DTSTAMP:20260422T162036
CREATED:20210728T003942Z
LAST-MODIFIED:20210803T041534Z
UID:16041-1590537600-1590623999@www.bnmit.org
SUMMARY:Virtual Workshop on ‘Unleash the Hidden Potential in You’
DESCRIPTION:BNMIT in collaboration with BITES and Disha Charitable trust Bangalore organized Student Virtual Workshop on ‘Unleash the Hidden Potential in you’ on 27th May 2020\, to strengthen the students and manage emotional stress during Lockdown due to COVID-19. Smt. Rekha Ramachandran and Meera Balaganeshan addressed the
URL:https://www.bnmit.org/event/virtual-workshop-on-unleash-the-hidden-potential-in-you/
CATEGORIES:Home,ISE DEPT
ATTACH;FMTTYPE=image/jpeg:https://www.bnmit.org/wp-content/uploads/2021/07/events-dummy.jpg
END:VEVENT
BEGIN:VEVENT
DTSTART;VALUE=DATE:20200215
DTEND;VALUE=DATE:20200216
DTSTAMP:20260422T162036
CREATED:20210728T004538Z
LAST-MODIFIED:20210803T041430Z
UID:16047-1581724800-1581811199@www.bnmit.org
SUMMARY:Industrial Visit to IoT SHOW at KTPO Trade Centre\, Whitefield\, Bengaluru
DESCRIPTION:The students of 4 Sem ISE were taken to IoT show at Karnataka Trade Promotion Organisation (KTPO) under Institution of  Engineers’ Student Chapter on Tuesday 15th February 2020 as a part of Industrial Visit. Students were accompanied by two faculty members: Mr. Vijay Kumar S and Mrs. Yashaswini H M.
URL:https://www.bnmit.org/event/industrial-visit-to-iot-show-at-ktpo-trade-centre-whitefield-bengaluru/
LOCATION:IoT show\, Karnataka Trade Promotion Organisation (KTPO)\, India
CATEGORIES:Home,ISE DEPT
ATTACH;FMTTYPE=image/png:https://www.bnmit.org/wp-content/uploads/2021/07/eve42-300x200-10.png
END:VEVENT
BEGIN:VEVENT
DTSTART;VALUE=DATE:20200120
DTEND;VALUE=DATE:20200125
DTSTAMP:20260422T162036
CREATED:20210728T005046Z
LAST-MODIFIED:20210803T041757Z
UID:16055-1579478400-1579910399@www.bnmit.org
SUMMARY:Faculty Development Program on  ‘Research and Innovation for Growth
DESCRIPTION:The Department of ISE organized a Faculty Development Program on ‘Research and Innovation for Growth’ from 20th to 24th January 2020. The resource persons were  Dr. V. Krishnamurthy-Registrar\, PES University\, Bengaluru\, Dr. SeemaTharannum   -Assoc. Professor\, PES University\, Bengaluru\, Dr. Vanishree. R – Associate Professor\, PES University\, Bengaluru\, Prof. Subhash Reddy – Chief Librarian\, PES University\, Bengaluru and Dr. Mahananda B.S – Associate Professor\, JSS University\, Bengaluru.
URL:https://www.bnmit.org/event/faculty-development-program-on-research-and-innovation-for-growth/
LOCATION:BNMIT Campus
CATEGORIES:Home,ISE DEPT
ATTACH;FMTTYPE=image/png:https://www.bnmit.org/wp-content/uploads/2021/07/eve42-300x200-11.png
END:VEVENT
BEGIN:VEVENT
DTSTART;VALUE=DATE:20191102
DTEND;VALUE=DATE:20191103
DTSTAMP:20260422T162036
CREATED:20210728T010551Z
LAST-MODIFIED:20210803T042023Z
UID:16074-1572652800-1572739199@www.bnmit.org
SUMMARY:Talk on 'Quality of Communication = Quality of life of an Entrepreneur'
DESCRIPTION:On 2nd November 2019\, the Department of ISE\, in collaboration with ISTE Student Chapter BNMIT organized a Talk on ‘Quality of Communication = Quality of life of an Entrepreneur’ by Mr. Pavan R.C \, a young entrepreneur\, a renowned TEDx Speaker\, Secretary\, Achieve Educational Trust\, followed by distribution of mementos to the FCD holders during the program.
URL:https://www.bnmit.org/event/talk-on-quality-of-communication-quality-of-life-of-an-entrepreneur/
LOCATION:BNMIT Campus
CATEGORIES:Home,ISE DEPT
ATTACH;FMTTYPE=image/jpeg:https://www.bnmit.org/wp-content/uploads/2021/07/eve42-300x200-51.jpg
END:VEVENT
BEGIN:VEVENT
DTSTART;VALUE=DATE:20191025
DTEND;VALUE=DATE:20191027
DTSTAMP:20260422T162036
CREATED:20210728T010004Z
LAST-MODIFIED:20210803T042126Z
UID:16066-1571961600-1572134399@www.bnmit.org
SUMMARY:Workshop on 'Circuit Prototyping'
DESCRIPTION:A workshop on circuit prototyping was conducted under CSI-BNMIT student branch on 25th and 26th October 2019. Mr. Kotresh\, Director of Indian Tech-Keys\, Bengaluru was the resource person
URL:https://www.bnmit.org/event/workshop-on-circuit-prototyping/
LOCATION:BNMIT Campus
CATEGORIES:Home,ISE DEPT
ATTACH;FMTTYPE=image/jpeg:https://www.bnmit.org/wp-content/uploads/2021/07/eve42-300x200-49.jpg
END:VEVENT
BEGIN:VEVENT
DTSTART;VALUE=DATE:20191011
DTEND;VALUE=DATE:20191013
DTSTAMP:20260422T162036
CREATED:20210728T005703Z
LAST-MODIFIED:20210803T042254Z
UID:16061-1570752000-1570924799@www.bnmit.org
SUMMARY:Workshop on 'Machine Learning and Tensor Flow Applications'
DESCRIPTION:The Department of ISE\, in collaboration with IE conducted two days’ workshop on 11th and 12th October 2019\, on ‘Machine Learning and Tensor Flow Applications’. Prof. Manjunath of Manipal Institute of Technology and Mr. Akshay Pai\, Data Science Lead at ThoughtClan Technologies Pvt Ltd were the resource persons.
URL:https://www.bnmit.org/event/workshop-on-machine-learning-and-tensor-flow-applications/
LOCATION:Department of ISE
CATEGORIES:Home,ISE DEPT
ATTACH;FMTTYPE=image/jpeg:https://www.bnmit.org/wp-content/uploads/2021/07/eve42-300x200-48.jpg
END:VEVENT
BEGIN:VEVENT
DTSTART;VALUE=DATE:20190920
DTEND;VALUE=DATE:20190922
DTSTAMP:20260422T162036
CREATED:20210728T004751Z
LAST-MODIFIED:20210803T042417Z
UID:16051-1568937600-1569110399@www.bnmit.org
SUMMARY:Workshop on 'Application Development using Microservices Architecture'
DESCRIPTION:On 20th and 21st September\, 2019\, a workshop on Application Development\, using Microservices Architecture was conducted under CSI-BNMIT student chapter. Mr. Prashanth Raghu\, Senior Backend Engineer\, Signeasy Technologies Pvt. Ltd was the resource person.
URL:https://www.bnmit.org/event/workshop-on-application-development-using-microservices-architecture/
CATEGORIES:Home,ISE DEPT
ATTACH;FMTTYPE=image/jpeg:https://www.bnmit.org/wp-content/uploads/2021/07/eve42-300x200-46.jpg
END:VEVENT
END:VCALENDAR