BEGIN:VCALENDAR
VERSION:2.0
PRODID:-// - ECPv5.8.1//NONSGML v1.0//EN
CALSCALE:GREGORIAN
METHOD:PUBLISH
X-ORIGINAL-URL:https://www.bnmit.org
X-WR-CALDESC:Events for 
BEGIN:VTIMEZONE
TZID:Asia/Kolkata
BEGIN:STANDARD
TZOFFSETFROM:+0530
TZOFFSETTO:+0530
TZNAME:IST
DTSTART:20260101T000000
END:STANDARD
END:VTIMEZONE
BEGIN:VEVENT
DTSTART;TZID=Asia/Kolkata:20260314T090000
DTEND;TZID=Asia/Kolkata:20260314T110000
DTSTAMP:20260421T052244
CREATED:20260314T095642Z
LAST-MODIFIED:20260314T100511Z
UID:30236-1773478800-1773486000@www.bnmit.org
SUMMARY:Workshop on "From Code to Cloud: Understanding Modern Devops Tools and Workflows”
DESCRIPTION:Workshop aims to empower engineers with hands-on experience in containerization\, CI/CD pipelines\, and infrastructure as code to streamline development. It aims to bridge the gap between development and operations by providing practical insights into cloud-native tools\, AI-assisted workflows\, and robust security practices for 2026.\n\n\n\nDate: 14th March 2026 \nTime: 9:00 Am to 11:00 Am \nVenue: M309 Seminar Hall\, Main Building\, BNMIT
URL:https://www.bnmit.org/event/workshop-on-from-code-to-cloud-understanding-modern-devops-tools-and-workflows/
LOCATION:BNMIT Campus
CATEGORIES:CSE DEPT,Events,Home
ATTACH;FMTTYPE=image/jpeg:https://www.bnmit.org/wp-content/uploads/2026/03/cse_cloud_workshop.jpg
END:VEVENT
BEGIN:VEVENT
DTSTART;VALUE=DATE:20260411
DTEND;VALUE=DATE:20260412
DTSTAMP:20260421T052244
CREATED:20260415T092833Z
LAST-MODIFIED:20260415T092917Z
UID:30442-1775865600-1775951999@www.bnmit.org
SUMMARY:Avinya 2026 – Project Exhibition
DESCRIPTION:The Department of Electronics and Communication Engineering\, B.N.M. Institute of Technology\, Bengaluru\, organized “Avinya 2026 – Project Exhibition” in association with the IEEE Circuits and Systems Society\, The Institution of Engineers (India)\, and the IEEE Nanotechnology Council. The exhibition served as a platform for students to showcase their innovative projects and technical solutions across various domains of electronics and communication engineering. The event encouraged creativity\, problem-solving\, and the practical application of theoretical concepts\, enabling students to demonstrate their technical competencies and innovative ideas. The projects were evaluated by an esteemed panel of jury members including Mr. Venkatesh Murthy Muthigi (Director of Engineering\, Qualcomm\, Bengaluru)\, Mr. Santosh M. S. (Member of Technical Staff\, AMD India Pvt. Ltd.\, Bengaluru)\, Dr. A. B. Kalpana (Professor and Head\, ECE\, BIT\, Bengaluru)\, and Dr. Leelavathi H. P. (Professor\, Department of ECE). The jury appreciated the quality of projects and provided valuable feedback to students for further improvement and real-world applicability. The event provided students with exposure to industry expectations\, enhanced their presentation skills\, and motivated them to pursue innovation and research-oriented projects. \nDate & Time: 11.04.2026 | 9:30 a.m. \nVenue: N502 & N505\, New Building\, B.N.M.Institute of Technology
URL:https://www.bnmit.org/event/avinya-2026-project-exhibition/
LOCATION:BNMIT Campus
CATEGORIES:ECE DEPT,Events,Home
ATTACH;FMTTYPE=image/jpeg:https://www.bnmit.org/wp-content/uploads/2026/04/Avinya-2026.jpg.jpeg
END:VEVENT
END:VCALENDAR