BEGIN:VCALENDAR
VERSION:2.0
PRODID:-// - ECPv5.8.1//NONSGML v1.0//EN
CALSCALE:GREGORIAN
METHOD:PUBLISH
X-ORIGINAL-URL:https://www.bnmit.org
X-WR-CALDESC:Events for 
BEGIN:VTIMEZONE
TZID:Asia/Kolkata
BEGIN:STANDARD
TZOFFSETFROM:+0530
TZOFFSETTO:+0530
TZNAME:IST
DTSTART:20250101T000000
END:STANDARD
END:VTIMEZONE
BEGIN:VEVENT
DTSTART;TZID=Asia/Kolkata:20250507T100000
DTEND;TZID=Asia/Kolkata:20250509T163000
DTSTAMP:20260421T034218
CREATED:20250509T054749Z
LAST-MODIFIED:20250510T043052Z
UID:27721-1746612000-1746808200@www.bnmit.org
SUMMARY:Organized  "Faculty Development Program on Celonis Process Mining" in Association with Celonis & ICT Academy
DESCRIPTION:Date : 07-05-2025 to 09-05-2025\n“Faculty Development Program on Celonis Process Mining” in association with Celonis and  ICT Academy Using the Celonis Process intelligence Platform\n\nThe FDP focused on “Celonis Process Mining using the Celonis Process Intelligence Platform “\, aiming to upskill faculty members with industry-relevant tools and techniques in data analytics\, business process optimization\, and intelligent automation. \nCelonis\, a global leader in process mining technology\, provided in-depth training through their Celonis Academic Alliance program. The session introduced participants to the fundamentals of process mining\, its applications in real-world business scenarios\, and hands-on experience with the Celonis Execution Management System (EMS).
URL:https://www.bnmit.org/event/fdp-on-celonics-process-mining/
LOCATION:BNMIT Campus
CATEGORIES:CSE DEPT,Events,Home
ATTACH;FMTTYPE=image/jpeg:https://www.bnmit.org/wp-content/uploads/2025/05/CSE_celonis_ppt_may25-scaled.jpg
END:VEVENT
BEGIN:VEVENT
DTSTART;TZID=Asia/Kolkata:20250509T133000
DTEND;TZID=Asia/Kolkata:20250509T163000
DTSTAMP:20260421T034218
CREATED:20250506T104630Z
LAST-MODIFIED:20250506T105245Z
UID:27691-1746797400-1746808200@www.bnmit.org
SUMMARY:Immersive Innovations: Basics of Generative AI with hands on examples to generate text content using python
DESCRIPTION:Date : 09-05-2025\nVenue :A215\nTime : 1.40pm to 4.40pm\nAbout the workshop 😋We are excited to host a workshop on “Basics of Generative AI with hands on examples to generate text content using python ” by Satish Venkatanarayana\, Practice Manager – Digital Experiences at IBM. In this engaging session\, participants will gain a clear understanding of how AI works\, the key differences between Traditional AI and Generative AI\, and delve into the fundamentals of Large Language Models (LLMs). The workshop will also cover essential concepts like Prompt Engineering\, the necessity of Retrieval-Augmented Generation (RAG)\, and the RAG pattern\, supported by practical code examples.
URL:https://www.bnmit.org/event/basics-of-generative-ai-with-hands-on-examples-to-generate-text-content-using-python/
LOCATION:BNMIT Campus
CATEGORIES:CSE DEPT,Events,Home
ATTACH;FMTTYPE=image/jpeg:https://www.bnmit.org/wp-content/uploads/2025/05/Python-workshop-2025-05-06-at-3.33.23-PM.jpeg
END:VEVENT
END:VCALENDAR